BEGIN:VCALENDAR
VERSION:2.0
PRODID:-//Struwwi Club - ECPv6.15.20//NONSGML v1.0//EN
CALSCALE:GREGORIAN
METHOD:PUBLISH
X-WR-CALNAME:Struwwi Club
X-ORIGINAL-URL:https://struwwi-club.de
X-WR-CALDESC:Veranstaltungen für Struwwi Club
REFRESH-INTERVAL;VALUE=DURATION:PT1H
X-Robots-Tag:noindex
X-PUBLISHED-TTL:PT1H
BEGIN:VTIMEZONE
TZID:Europe/Berlin
BEGIN:DAYLIGHT
TZOFFSETFROM:+0100
TZOFFSETTO:+0200
TZNAME:CEST
DTSTART:20240331T010000
END:DAYLIGHT
BEGIN:STANDARD
TZOFFSETFROM:+0200
TZOFFSETTO:+0100
TZNAME:CET
DTSTART:20241027T010000
END:STANDARD
BEGIN:DAYLIGHT
TZOFFSETFROM:+0100
TZOFFSETTO:+0200
TZNAME:CEST
DTSTART:20250330T010000
END:DAYLIGHT
BEGIN:STANDARD
TZOFFSETFROM:+0200
TZOFFSETTO:+0100
TZNAME:CET
DTSTART:20251026T010000
END:STANDARD
BEGIN:DAYLIGHT
TZOFFSETFROM:+0100
TZOFFSETTO:+0200
TZNAME:CEST
DTSTART:20260329T010000
END:DAYLIGHT
BEGIN:STANDARD
TZOFFSETFROM:+0200
TZOFFSETTO:+0100
TZNAME:CET
DTSTART:20261025T010000
END:STANDARD
END:VTIMEZONE
BEGIN:VEVENT
DTSTART;TZID=Europe/Berlin:20250611T153000
DTEND;TZID=Europe/Berlin:20250611T173000
DTSTAMP:20260421T132650
CREATED:20250505T045221Z
LAST-MODIFIED:20250506T223236Z
UID:10000460-1749655800-1749663000@struwwi-club.de
SUMMARY:Kochspaß mit Überraschung – Unser Struwwi-Kochtag 🧑‍🍳
DESCRIPTION:An die Löffel\, fertig\, los! \nHeute wird gemeinsam geschnippelt\, gerührt und gekocht – aber was genau auf den Teller kommt\, bleibt bis zum Tag selbst eine Überraschung! \nOb buntes Gemüsegericht\, süßer Snack oder kinderleichte Leckerei – was wir zaubern\, hängt auch von euren Ideen ab: Wer mag\, darf bei der Anmeldung gerne Wunschzutaten oder Rezeptideen mitschicken. \nEin duftendes Gemeinschaftserlebnis\, das kleine und große Feinschmecker verbindet! \n📝 Wichtige Info – Plätze sind heiß begehrt! 👉 Die Teilnehmerzahl ist auf maximal 8 Kinder begrenzt. Für Mitglieder 5€ pro Kind\, für alle anderen 10€ pro Kind. \n📅 Anmeldung erforderlich! Bitte meldet euch spätestens am Montag vor dem jeweiligen Termin bis 20:00 Uhr über unsere Vereins-App oder via E-Mail an. \n📲 Für bestehende Mitglieder/Gäste: Meldet euch direkt in der Vereinsplaner-App zum Event an. \n📲 Noch nicht dabei? So geht’s: 1️⃣ Ladet die App „Vereinsplaner“ herunter und registriert euch mit eurem Namen & E-Mail. 2️⃣ Sucht nach „Eltern-Kind Verein Struwwelpeter“ und tretet als Gast bei.3️⃣ In der App habt ihr alle Termine\, könnt euch direkt anmelden\, erhaltet News & Updates – und als Mitglied könnt ihr euch in den Chatgruppen (nach Alter eures Kindes) mit anderen Eltern austauschen. Außerdem habt ihr den direkten Draht zu uns – kein WhatsApp oder andere Messenger nötig! \n🔗 www.vereinsplaner.de \n* Änderungen vorbehalten
URL:https://struwwi-club.de/termin-details/kochtag/
LOCATION:Eltern-Kind-Verein Struwwelpeter e.V.\, Schulstraße 8\, Schöneck\, Hessen\, 61137\, Germany
CATEGORIES:Special Event
ATTACH;FMTTYPE=image/jpeg:https://struwwi-club.de/wp-content/uploads/2025/05/IMG_3726.jpeg
ORGANIZER;CN="Struwwelpeter e.V.":MAILTO:hallo@struwwi-club.de
END:VEVENT
BEGIN:VEVENT
DTSTART;TZID=Europe/Berlin:20250618T140000
DTEND;TZID=Europe/Berlin:20250618T180000
DTSTAMP:20260421T132650
CREATED:20250505T045842Z
LAST-MODIFIED:20250505T050452Z
UID:10000461-1750255200-1750269600@struwwi-club.de
SUMMARY:Hochbeet-Abenteuer Teil 2 – Jetzt wird’s grün! 🪴
DESCRIPTION:Der große Struwwi-Garten wächst – und wir legen Hand an! 🪴 🌎 \nNachdem wir im ersten Teil bereits fleißig vorbereitet und ausgesät haben\, geht es jetzt an die Umsetzung: Die Hochbeete werden aufgebaut\, mit Erde befüllt und unsere Pflänzchen finden endlich ihr neues Zuhause. \nEin Mitmach-Tag für kleine Gärtnerinnen & Gärtner\, voller Erde\, Energie und Entdeckungen – lasst uns gemeinsam wachsen! 🫑 \n📝 Wichtige Info – Plätze sind heiß begehrt! 👉 Die Teilnehmerzahl ist auf maximal 10 Kinderbegrenzt. Beitrag: Mitglieder 5€ pro Kind\, alle anderen 10€ pro Kind. \n📅 Anmeldung erforderlich! Bitte meldet euch spätestens am Freitag vor dem jeweiligen Termin bis 20:00 Uhr über unsere Vereins-App an. \n📲 Für bestehende Mitglieder/Gäste: Meldet euch direkt in der Vereinsplaner-App zum Event an. \n📲 Noch nicht dabei? So geht’s: 1️⃣ Ladet die App „Vereinsplaner“ herunter und registriert euch mit eurem Namen & E-Mail. 2️⃣ Sucht nach „Eltern-Kind Verein Struwwelpeter“ und tretet als Gast bei.3️⃣ In der App habt ihr alle Termine\, könnt euch direkt anmelden\, erhaltet News & Updates – und als Mitglied könnt ihr euch in den Chatgruppen (nach Alter eures Kindes) mit anderen Eltern austauschen. Außerdem habt ihr den direkten Draht zu uns – kein WhatsApp oder andere Messenger nötig! \n🔗 www.vereinsplaner.de \n* Änderungen vorbehalten
URL:https://struwwi-club.de/termin-details/hochbeet-abenteuer-teil-2-jetzt-wirds-gruen-%f0%9f%aa%b4/
LOCATION:Eltern-Kind-Verein Struwwelpeter e.V.\, Schulstraße 8\, Schöneck\, Hessen\, 61137\, Germany
CATEGORIES:Special Event
ATTACH;FMTTYPE=image/jpeg:https://struwwi-club.de/wp-content/uploads/2025/02/gemeinschaftliches-hochbeet-bauen-kinder-nachhaltigkeit.jpg
ORGANIZER;CN="Struwwelpeter e.V.":MAILTO:hallo@struwwi-club.de
END:VEVENT
END:VCALENDAR