BEGIN:VCALENDAR
VERSION:2.0
PRODID:-//Struwwi Club - ECPv6.15.20//NONSGML v1.0//EN
CALSCALE:GREGORIAN
METHOD:PUBLISH
X-ORIGINAL-URL:https://struwwi-club.de
X-WR-CALDESC:Veranstaltungen für Struwwi Club
REFRESH-INTERVAL;VALUE=DURATION:PT1H
X-Robots-Tag:noindex
X-PUBLISHED-TTL:PT1H
BEGIN:VTIMEZONE
TZID:Europe/Berlin
BEGIN:DAYLIGHT
TZOFFSETFROM:+0100
TZOFFSETTO:+0200
TZNAME:CEST
DTSTART:20240331T010000
END:DAYLIGHT
BEGIN:STANDARD
TZOFFSETFROM:+0200
TZOFFSETTO:+0100
TZNAME:CET
DTSTART:20241027T010000
END:STANDARD
BEGIN:DAYLIGHT
TZOFFSETFROM:+0100
TZOFFSETTO:+0200
TZNAME:CEST
DTSTART:20250330T010000
END:DAYLIGHT
BEGIN:STANDARD
TZOFFSETFROM:+0200
TZOFFSETTO:+0100
TZNAME:CET
DTSTART:20251026T010000
END:STANDARD
BEGIN:DAYLIGHT
TZOFFSETFROM:+0100
TZOFFSETTO:+0200
TZNAME:CEST
DTSTART:20260329T010000
END:DAYLIGHT
BEGIN:STANDARD
TZOFFSETFROM:+0200
TZOFFSETTO:+0100
TZNAME:CET
DTSTART:20261025T010000
END:STANDARD
END:VTIMEZONE
BEGIN:VEVENT
DTSTART;TZID=Europe/Berlin:20250304T153000
DTEND;TZID=Europe/Berlin:20250304T180000
DTSTAMP:20260423T114351
CREATED:20250207T132011Z
LAST-MODIFIED:20250301T163146Z
UID:10000019-1741102200-1741111200@struwwi-club.de
SUMMARY:🎭 Magischer Karneval – Feiere mit uns! 🎉
DESCRIPTION:💰 Kostenbeitrag:  Mitglieder: 1€ |  Nicht-Mitglieder: 2€\n+ ein Kuchen oder Snack zum Teilen 🍪🎂 \n🎭 Ein kunterbuntes Fest für kleine Narren! \nSchnappt euch eure Kostüme\, tanzt zu fröhlicher Musik und lasst euch von lustigen Spielen und zauberhaften Überraschungen begeistern! 🥳✨ \n👑 Wer kann mitmachen?\nKinder von 2–6 Jahren – mit ihren Eltern! (Keine Kinderbetreuung\, sondern ein gemeinsames Erlebnis!) \n📢 Jetzt anmelden & mitfeiern! \n🎟 Wichtige Info – Schnell anmelden!\n⚠️ Nur noch wenige Plätze verfügbar – Sei dabei!\n📝 Anmeldung verlängert bis Sonntag\, 02.03.25\, 20:00 Uhr! \n________ \n📲 So meldest du dich an:\n✔ Bestehende Mitglieder/Gäste: Einfach direkt in der Vereinsplaner-App anmelden.\n \nNoch nicht dabei? So geht’s: \n1️⃣ App „Vereinsplaner“ herunterladen & registrieren mit Name & E-Mail. \n2️⃣ „Eltern-Kind Verein Struwwelpeter“ suchen & als Gast beitreten. \n3️⃣ Alle Termine in der App sehen\, anmelden\, News & Updates erhalten – als Mitglied auch mit anderen Eltern im Chat austauschen! \n🔗 Mehr Infos & App-Download: www.vereinsplaner.de \n✨ Freu dich auf Kostüme\, Musik & jede Menge Spaß! 🎈🥳 \n* Änderungen vorbehalten
URL:https://struwwi-club.de/termin-details/%f0%9f%8e%ad-magischer-karneval-feiere-mit-uns-%f0%9f%8e%89/
LOCATION:Eltern-Kind-Verein Struwwelpeter e.V.\, Schulstraße 8\, Schöneck\, Hessen\, 61137\, Germany
CATEGORIES:Special Event
ATTACH;FMTTYPE=image/png:https://struwwi-club.de/wp-content/uploads/2025/02/Magischer-Karneval-Basteltag.png
END:VEVENT
BEGIN:VEVENT
DTSTART;TZID=Europe/Berlin:20250319T153000
DTEND;TZID=Europe/Berlin:20250319T180000
DTSTAMP:20260423T114351
CREATED:20250207T133531Z
LAST-MODIFIED:20250207T161123Z
UID:10000020-1742398200-1742407200@struwwi-club.de
SUMMARY:🐰🎨 Osterbasteln 1 – Eier & Co anmalen! 🌸✨
DESCRIPTION:Ostern wird bunt! 🌈🐣 Schnapp dir Pinsel\, Farben & Kreativität und verziere mit uns Eier und andere tolle Osterdekorationen. Ob gepunktet\, gestreift oder mit Glitzer – hier entstehen echte Kunstwerke! ✨🎨 \n🥚 Osterzauber für kleine Künstler & große Kreative! \n📍 Beitrag pro Kind:\n🐥 Mitglieder: 2\,50€\n🌼 Nicht-Mitglieder: 5€ \n🥤 Snacks & Getränke gibt’s vor Ort – wir freuen uns auf dich! \n________ \n📝 Wichtige Info – Plätze sind heiß begehrt!\n👉 Die Teilnehmerzahl ist auf maximal 12 Kinder begrenzt.\n📅 Anmeldung erforderlich! Bitte meldet euch spätestens Freitag\, 14.03.2025bis 20:00 Uhr über unsere Vereins-App an. \n📲 Für bestehende Mitglieder/Gäste:\nMeldet euch direkt in der Vereinsplaner-App zum Event an. \n📲 Noch nicht dabei? So geht’s:\n1️⃣ Ladet die App „Vereinsplaner“ herunter und registriert euch mit eurem Namen & E-Mail.\n2️⃣ Sucht nach „Eltern-Kind Verein Struwwelpeter“ und tretet als Gast bei.\n3️⃣ In der App habt ihr alle Termine\, könnt euch direkt anmelden\, erhaltet News & Updates – und als Mitglied könnt ihr euch in den Chatgruppen (nach Alter eures Kindes) mit anderen Eltern austauschen. Außerdem habt ihr den direkten Draht zu uns – kein WhatsApp oder andere Messenger nötig! \n🔗 www.vereinsplaner.de \n* Änderungen vorbehalten
URL:https://struwwi-club.de/termin-details/%f0%9f%90%b0%f0%9f%8e%a8-osterbasteln-1-eier-co-anmalen-%f0%9f%8c%b8%e2%9c%a8/
LOCATION:Eltern-Kind-Verein Struwwelpeter e.V.\, Schulstraße 8\, Schöneck\, Hessen\, 61137\, Germany
CATEGORIES:Special Event
ATTACH;FMTTYPE=image/jpeg:https://struwwi-club.de/wp-content/uploads/2025/02/osterbasteln-eier-bemalen-kinder.jpg
END:VEVENT
BEGIN:VEVENT
DTSTART;TZID=Europe/Berlin:20250330T113000
DTEND;TZID=Europe/Berlin:20250330T170000
DTSTAMP:20260423T114351
CREATED:20250207T151323Z
LAST-MODIFIED:20250221T172632Z
UID:10000021-1743334200-1743354000@struwwi-club.de
SUMMARY:🌸 Abenteuer Frühlingsflohmarkt – DAS Familien-Highlight in Schöneck! ☀️🎈👶
DESCRIPTION:🔥 Der erste Flohmarkt in Schöneck mit HÜPFBURG – ein Erlebnis für die ganze Familie! 🚀✨ \nUnser Frühlingsflohmarkt ist mehr als nur ein Flohmarkt – es ist ein echtes Familien-Event! Während ihr durch die liebevoll zusammengestellten Stände stöbert\, erleben eure Kinder jede Menge Spaß und Action. \n✨ Freut euch auf: \n✔️ Bummeln\, Stöbern & Schätze finden – Kleidung\, Spielzeug\, Bücher & mehr – nachhaltig\, preiswert & mit Herz für Groß und Klein!\n✔️ Action für die Kleinen – HÜPFBURG\, Kinderschminken\, Krabbelecke & unsere Vorlese-Omas 📖💛\n✔️ Wettbewerbe & Überraschungen – Stimmt für den schönsten Flohmarktstand ab! 🏆\n✔️ Leckere Snacks\, Kuchen & Getränke ☕🍰\n✔️ Live-Versteigerungen & Spenden-Ecke – Finde besondere Schätze & tu dabei Gutes! \n📍 Stand-Anmeldung:\nIhr wollt selbst verkaufen? Dann sichert euch jetzt einen Tisch – und profitiert von unseren besonderen Extras für Verkäufer!\n📧 Anmeldung per Mail an hallo@struwwi-club.de \n💡 Was wir unseren Ausstellern bieten:\n✔️ Pippi-Pausen-Vertretung – Kurz mal weg? Kein Problem\, wir halten euren Stand! \n✔️ ESSEN-BRING-SERVICE – Keine Zeit\, selbst Snacks zu holen? Wir bringen sie euch! 🍩🥤\n✔️ Musik-Wunschliste – Eure Lieblingssongs laufen im Hintergrund! 🎶\n✔️ Stand-Promotion über unsere Flohmarkt-App – Mehr Sichtbarkeit für euch! \n💡 Standgebühren:\n🔹 Tisch: Mitglieder 8€ | Nicht-Mitglieder 10€\n🔹 Kleiderständer: Mitglieder 3€ | Nicht-Mitglieder 5€ \n🎈 Kommt vorbei & erlebt mit uns einen fröhlichen\, magischen Flohmarkttag! Wir freuen uns auf euch! 💛 \n🤰 Für Schwangere: Einlass ab 11:00 Uhr \n📍 Bürgertreff Kilianstädten\, Richard-Wagner-Straße 5\, 61137 Schöneck \n* Änderungen vorbehalten
URL:https://struwwi-club.de/termin-details/%f0%9f%8c%b8-fruehlingsflohmarkt-beim-struwwelpeter-e-v-stoebern-schaetze-finden-geniessen-%f0%9f%8c%b8/
LOCATION:Bürgertreff Kilianstädten\, Richard-Wagner-Straße 5\, Schöneck\, Hessen\, 61137\, Germany
CATEGORIES:Special Event
ATTACH;FMTTYPE=image/jpeg:https://struwwi-club.de/wp-content/uploads/2025/02/fruehlingsflohmarkt-struwwelpeter-e-v.jpg
END:VEVENT
END:VCALENDAR