BEGIN:VCALENDAR
VERSION:2.0
PRODID:-//Struwwi Club - ECPv6.15.20//NONSGML v1.0//EN
CALSCALE:GREGORIAN
METHOD:PUBLISH
X-WR-CALNAME:Struwwi Club
X-ORIGINAL-URL:https://struwwi-club.de
X-WR-CALDESC:Veranstaltungen für Struwwi Club
REFRESH-INTERVAL;VALUE=DURATION:PT1H
X-Robots-Tag:noindex
X-PUBLISHED-TTL:PT1H
BEGIN:VTIMEZONE
TZID:Europe/Berlin
BEGIN:DAYLIGHT
TZOFFSETFROM:+0100
TZOFFSETTO:+0200
TZNAME:CEST
DTSTART:20240331T010000
END:DAYLIGHT
BEGIN:STANDARD
TZOFFSETFROM:+0200
TZOFFSETTO:+0100
TZNAME:CET
DTSTART:20241027T010000
END:STANDARD
BEGIN:DAYLIGHT
TZOFFSETFROM:+0100
TZOFFSETTO:+0200
TZNAME:CEST
DTSTART:20250330T010000
END:DAYLIGHT
BEGIN:STANDARD
TZOFFSETFROM:+0200
TZOFFSETTO:+0100
TZNAME:CET
DTSTART:20251026T010000
END:STANDARD
BEGIN:DAYLIGHT
TZOFFSETFROM:+0100
TZOFFSETTO:+0200
TZNAME:CEST
DTSTART:20260329T010000
END:DAYLIGHT
BEGIN:STANDARD
TZOFFSETFROM:+0200
TZOFFSETTO:+0100
TZNAME:CET
DTSTART:20261025T010000
END:STANDARD
END:VTIMEZONE
BEGIN:VEVENT
DTSTART;TZID=Europe/Berlin:20250705T103000
DTEND;TZID=Europe/Berlin:20250705T180000
DTSTAMP:20260423T114044
CREATED:20250505T051749Z
LAST-MODIFIED:20250626T111029Z
UID:10000462-1751711400-1751738400@struwwi-club.de
SUMMARY:Natur trifft große Fahrzeuge - dein Abenteuertag!
DESCRIPTION:Bereitet euch auf einen tollen Abenteuertag in der Natur mit Wasser\, Schaukeln\, Grillen – und natürlich großen Fahrzeugen vor! 😍 \nWir dürfen exklusiv vom Struwwi den Schönecker Naturgarten besuchen (5000m2) und und dort einen wunderschönen Tag verbringen: Obstbäume\, Beerenbüsche\, Kräuter zum Naschen\, Barrußpfad\, Kneipp-Bad\, Baumhaus\, Teich und Tümpel mit Fröschen\, Bobbycar-Renn-Hügel\, Fußbal und Federball- bis zur Seele baumeln lassen ist alles möglich. Selbstverständlichkeit kombiniert mit einem großen Fahrzeuge-Abenteuer für unsere Kleinen: Eine kurze Fahrt auf Traktor und einmal selber Erde mit einem Kettenbagger bewegen für die Mutigen (natürlich unter professioneller Aufsicht und Anleitung). \nZum Abschluss grillen wir vor Ort (Grillgut bitte selber mitbringen) und entspannen in einer der tollen Hütten. \nErkundet zusammen mit uns große Fahrzeuge – vielleicht traut ihr euch sogar\, euch mal reinzusetzen? \n*Änderungen vorbehalten.
URL:https://struwwi-club.de/termin-details/natur-trifft-grosse-fahrzeuge/
ATTACH;FMTTYPE=image/jpeg:https://struwwi-club.de/wp-content/uploads/2025/05/IMG_6030.jpeg
ORGANIZER;CN="Struwwelpeter e.V.":MAILTO:hallo@struwwi-club.de
END:VEVENT
END:VCALENDAR