BEGIN:VCALENDAR
VERSION:2.0
PRODID:-//Struwwi Club - ECPv6.15.20//NONSGML v1.0//EN
CALSCALE:GREGORIAN
METHOD:PUBLISH
X-WR-CALNAME:Struwwi Club
X-ORIGINAL-URL:https://struwwi-club.de
X-WR-CALDESC:Veranstaltungen für Struwwi Club
REFRESH-INTERVAL;VALUE=DURATION:PT1H
X-Robots-Tag:noindex
X-PUBLISHED-TTL:PT1H
BEGIN:VTIMEZONE
TZID:Europe/Berlin
BEGIN:DAYLIGHT
TZOFFSETFROM:+0100
TZOFFSETTO:+0200
TZNAME:CEST
DTSTART:20240331T010000
END:DAYLIGHT
BEGIN:STANDARD
TZOFFSETFROM:+0200
TZOFFSETTO:+0100
TZNAME:CET
DTSTART:20241027T010000
END:STANDARD
BEGIN:DAYLIGHT
TZOFFSETFROM:+0100
TZOFFSETTO:+0200
TZNAME:CEST
DTSTART:20250330T010000
END:DAYLIGHT
BEGIN:STANDARD
TZOFFSETFROM:+0200
TZOFFSETTO:+0100
TZNAME:CET
DTSTART:20251026T010000
END:STANDARD
BEGIN:DAYLIGHT
TZOFFSETFROM:+0100
TZOFFSETTO:+0200
TZNAME:CEST
DTSTART:20260329T010000
END:DAYLIGHT
BEGIN:STANDARD
TZOFFSETFROM:+0200
TZOFFSETTO:+0100
TZNAME:CET
DTSTART:20261025T010000
END:STANDARD
END:VTIMEZONE
BEGIN:VEVENT
DTSTART;TZID=Europe/Berlin:20250528T153000
DTEND;TZID=Europe/Berlin:20250528T173000
DTSTAMP:20260421T145815
CREATED:20250505T040707Z
LAST-MODIFIED:20250506T232341Z
UID:10000459-1748446200-1748453400@struwwi-club.de
SUMMARY:Laut & Lustig – Unser Struwwi DIY Musik-Mitmach-Tag 🥁 (mit Spezial-Musik-Gästen 💪🏻)
DESCRIPTION:Heute wird’s wild\, fröhlich und… laut! 🎸 \nGemeinsam entdecken wir unsere liebsten Musikinstrumente – von Trommeln und Rasseln bis Klanghölzern & Co. Ob improvisiertes Kinder-Orchester\, Rhythmus-Rallye oder einfach mal Krach machen\, was das Zeug hält – hier dürfen sich kleine Klangkünstler so richtig austoben und sogar ein kleines „Instrument“ selber basteln. 🎶 Ein weiteres Highlight: Wir bekommen Besuch von den „Abrissbirnen“\, die sich auf eine Struwwi-Exklusiv-Super-Sonder-„Jam Session“ mit den Kids freuen! 😍 \nGanz nebenbei fördern wir das Rhythmusgefühl und die Freude am gemeinsamen Musizieren\, unterstützt durch unseren musikalischen Überraschungsgast! \nEin Riesenspaß für kleine Entdecker mit (oder noch ohne) großem Taktgefühl – oder einfach Lust auf laute Momente! 🥁 \n  \n📝 Wichtige Info – Plätze sind heiß begehrt! 👉 Die Teilnehmerzahl ist auf maximal 8 Kinder begrenzt. Für Mitglieder 5€ pro Kind\, für alle anderen 10€ pro Kind. \n📅 Anmeldung erforderlich! Bitte meldet euch spätestens am Montag vor dem jeweiligen Termin bis 20:00 Uhr über unsere Vereins-App oder via E-Mail an. \n📲 Für bestehende Mitglieder/Gäste: Meldet euch direkt in der Vereinsplaner-App zum Event an. \n📲 Noch nicht dabei? So geht’s: 1️⃣ Ladet die App „Vereinsplaner“ herunter und registriert euch mit eurem Namen & E-Mail. 2️⃣ Sucht nach „Eltern-Kind Verein Struwwelpeter“ und tretet als Gast bei.3️⃣ In der App habt ihr alle Termine\, könnt euch direkt anmelden\, erhaltet News & Updates – und als Mitglied könnt ihr euch in den Chatgruppen (nach Alter eures Kindes) mit anderen Eltern austauschen. Außerdem habt ihr den direkten Draht zu uns – kein WhatsApp oder andere Messenger nötig! \n🔗 www.vereinsplaner.de \n* Änderungen vorbehalten
URL:https://struwwi-club.de/termin-details/laut-lustig-unser-struwwi-musik-mitmach-tag-%f0%9f%a5%81/
LOCATION:Eltern-Kind-Verein Struwwelpeter e.V.\, Schulstraße 8\, Schöneck\, Hessen\, 61137\, Germany
CATEGORIES:Special Event
ATTACH;FMTTYPE=image/jpeg:https://struwwi-club.de/wp-content/uploads/2025/05/7CAF89F0-65FF-4294-AD16-10976E162649.jpeg
ORGANIZER;CN="Struwwelpeter e.V.":MAILTO:hallo@struwwi-club.de
END:VEVENT
END:VCALENDAR