BEGIN:VCALENDAR
VERSION:2.0
PRODID:-//Struwwi Club - ECPv6.15.20//NONSGML v1.0//EN
CALSCALE:GREGORIAN
METHOD:PUBLISH
X-ORIGINAL-URL:https://struwwi-club.de
X-WR-CALDESC:Veranstaltungen für Struwwi Club
REFRESH-INTERVAL;VALUE=DURATION:PT1H
X-Robots-Tag:noindex
X-PUBLISHED-TTL:PT1H
BEGIN:VTIMEZONE
TZID:Europe/Berlin
BEGIN:DAYLIGHT
TZOFFSETFROM:+0100
TZOFFSETTO:+0200
TZNAME:CEST
DTSTART:20240331T010000
END:DAYLIGHT
BEGIN:STANDARD
TZOFFSETFROM:+0200
TZOFFSETTO:+0100
TZNAME:CET
DTSTART:20241027T010000
END:STANDARD
BEGIN:DAYLIGHT
TZOFFSETFROM:+0100
TZOFFSETTO:+0200
TZNAME:CEST
DTSTART:20250330T010000
END:DAYLIGHT
BEGIN:STANDARD
TZOFFSETFROM:+0200
TZOFFSETTO:+0100
TZNAME:CET
DTSTART:20251026T010000
END:STANDARD
BEGIN:DAYLIGHT
TZOFFSETFROM:+0100
TZOFFSETTO:+0200
TZNAME:CEST
DTSTART:20260329T010000
END:DAYLIGHT
BEGIN:STANDARD
TZOFFSETFROM:+0200
TZOFFSETTO:+0100
TZNAME:CET
DTSTART:20261025T010000
END:STANDARD
END:VTIMEZONE
BEGIN:VEVENT
DTSTART;TZID=Europe/Berlin:20250518T153000
DTEND;TZID=Europe/Berlin:20250518T170000
DTSTAMP:20260421T161441
CREATED:20250505T030906Z
LAST-MODIFIED:20250505T031707Z
UID:10000458-1747582200-1747587600@struwwi-club.de
SUMMARY:🔥 Feuerwehr hautnah – Ein besonderer Besuch bei den Rettern in Rot
DESCRIPTION:Am Tag der offenen Tür der Feuerwehr Kilianstädten treffen sich die Struwwi-Familien direkt vor Ort. Neben vielen spannenden Eindrücken rund um Einsatzfahrzeuge & Co erwartet unsere Struwwi-Kinder ein echtes Highlight: Ein geführter Blick hinter die Kulissen –> ein Besuch des Gruppenraums\, der sonst für die Öffentlichkeit verschlossen bleibt. 🔥 \nEin tolles Erlebnis für kleine Feuerwehr-Fans und alle\, die große Augen machen wollen! \nFür Mitglieder kostenlos.
URL:https://struwwi-club.de/termin-details/feuerwehr-hautnah-ein-besonderer-besuch-bei-den-rettern-in-rot/
CATEGORIES:Special Event
ATTACH;FMTTYPE=image/jpeg:https://struwwi-club.de/wp-content/uploads/2025/05/IMG_3722.jpeg
END:VEVENT
END:VCALENDAR