BEGIN:VCALENDAR
VERSION:2.0
PRODID:-//Struwwi Club - ECPv6.15.20//NONSGML v1.0//EN
CALSCALE:GREGORIAN
METHOD:PUBLISH
X-WR-CALNAME:Struwwi Club
X-ORIGINAL-URL:https://struwwi-club.de
X-WR-CALDESC:Veranstaltungen für Struwwi Club
REFRESH-INTERVAL;VALUE=DURATION:PT1H
X-Robots-Tag:noindex
X-PUBLISHED-TTL:PT1H
BEGIN:VTIMEZONE
TZID:Europe/Berlin
BEGIN:DAYLIGHT
TZOFFSETFROM:+0100
TZOFFSETTO:+0200
TZNAME:CEST
DTSTART:20240331T010000
END:DAYLIGHT
BEGIN:STANDARD
TZOFFSETFROM:+0200
TZOFFSETTO:+0100
TZNAME:CET
DTSTART:20241027T010000
END:STANDARD
BEGIN:DAYLIGHT
TZOFFSETFROM:+0100
TZOFFSETTO:+0200
TZNAME:CEST
DTSTART:20250330T010000
END:DAYLIGHT
BEGIN:STANDARD
TZOFFSETFROM:+0200
TZOFFSETTO:+0100
TZNAME:CET
DTSTART:20251026T010000
END:STANDARD
BEGIN:DAYLIGHT
TZOFFSETFROM:+0100
TZOFFSETTO:+0200
TZNAME:CEST
DTSTART:20260329T010000
END:DAYLIGHT
BEGIN:STANDARD
TZOFFSETFROM:+0200
TZOFFSETTO:+0100
TZNAME:CET
DTSTART:20261025T010000
END:STANDARD
END:VTIMEZONE
BEGIN:VEVENT
DTSTART;TZID=Europe/Berlin:20250507T153000
DTEND;TZID=Europe/Berlin:20250507T173000
DTSTAMP:20260421T161052
CREATED:20250505T025904Z
LAST-MODIFIED:20250505T030227Z
UID:10000457-1746631800-1746639000@struwwi-club.de
SUMMARY:Gemeinsam Gärtnern: Unser Hochbeet-Abenteuer – Teil 1
DESCRIPTION:Der Struwwelpeter e.V. startet in die Gartensaison: Beim ersten Teil unseres Hochbeet-Projekts pflanzen unsere Struwwi-Kinder mit viel Freude und Neugier ihre ersten Samen. 🌱 Gemeinsam bereiten wir die Erde vor\, lernen spannende Pflanzentipps und legen den Grundstein für unser großes Struwwi-Gartenprojekt. Auch Gäste sind herzlich willkommen! ❤️ \n\n🖌✨ Jede Woche eine neues Abenteuer – nächste Woche wartet ein anderer Struwwi-Tag auf dich! \n________ \n📝 Wichtige Info – Plätze sind heiß begehrt! 👉 Die Teilnehmerzahl ist auf maximal 10 Kinderbegrenzt. Beitrag: Mitglieder 5€ pro Kind\, alle anderen 10€ pro Kind. \n📅 Anmeldung erforderlich! Bitte meldet euch spätestens am Freitag vor dem jeweiligen Termin bis 20:00 Uhr über unsere Vereins-App an. \n📲 Für bestehende Mitglieder/Gäste: Meldet euch direkt in der Vereinsplaner-App zum Event an. \n📲 Noch nicht dabei? So geht’s: 1️⃣ Ladet die App „Vereinsplaner“ herunter und registriert euch mit eurem Namen & E-Mail. 2️⃣ Sucht nach „Eltern-Kind Verein Struwwelpeter“ und tretet als Gast bei.3️⃣ In der App habt ihr alle Termine\, könnt euch direkt anmelden\, erhaltet News & Updates – und als Mitglied könnt ihr euch in den Chatgruppen (nach Alter eures Kindes) mit anderen Eltern austauschen. Außerdem habt ihr den direkten Draht zu uns – kein WhatsApp oder andere Messenger nötig! \n🔗 www.vereinsplaner.de \n* Änderungen vorbehalten
URL:https://struwwi-club.de/termin-details/gemeinsam-gaertnern-unser-hochbeet-abenteuer-teil-1/
LOCATION:Eltern-Kind-Verein Struwwelpeter e.V.\, Schulstraße 8\, Schöneck\, Hessen\, 61137\, Germany
CATEGORIES:Special Event
ATTACH;FMTTYPE=image/jpeg:https://struwwi-club.de/wp-content/uploads/2025/02/gemeinschaftliches-hochbeet-bauen-kinder-nachhaltigkeit.jpg
ORGANIZER;CN="Struwwelpeter e.V.":MAILTO:hallo@struwwi-club.de
END:VEVENT
END:VCALENDAR