BEGIN:VCALENDAR
VERSION:2.0
PRODID:-//Struwwi Club - ECPv6.15.20//NONSGML v1.0//EN
CALSCALE:GREGORIAN
METHOD:PUBLISH
X-WR-CALNAME:Struwwi Club
X-ORIGINAL-URL:https://struwwi-club.de
X-WR-CALDESC:Veranstaltungen für Struwwi Club
REFRESH-INTERVAL;VALUE=DURATION:PT1H
X-Robots-Tag:noindex
X-PUBLISHED-TTL:PT1H
BEGIN:VTIMEZONE
TZID:Europe/Berlin
BEGIN:DAYLIGHT
TZOFFSETFROM:+0100
TZOFFSETTO:+0200
TZNAME:CEST
DTSTART:20240331T010000
END:DAYLIGHT
BEGIN:STANDARD
TZOFFSETFROM:+0200
TZOFFSETTO:+0100
TZNAME:CET
DTSTART:20241027T010000
END:STANDARD
BEGIN:DAYLIGHT
TZOFFSETFROM:+0100
TZOFFSETTO:+0200
TZNAME:CEST
DTSTART:20250330T010000
END:DAYLIGHT
BEGIN:STANDARD
TZOFFSETFROM:+0200
TZOFFSETTO:+0100
TZNAME:CET
DTSTART:20251026T010000
END:STANDARD
BEGIN:DAYLIGHT
TZOFFSETFROM:+0100
TZOFFSETTO:+0200
TZNAME:CEST
DTSTART:20260329T010000
END:DAYLIGHT
BEGIN:STANDARD
TZOFFSETFROM:+0200
TZOFFSETTO:+0100
TZNAME:CET
DTSTART:20261025T010000
END:STANDARD
END:VTIMEZONE
BEGIN:VEVENT
DTSTART;TZID=Europe/Berlin:20250416T153000
DTEND;TZID=Europe/Berlin:20250416T173000
DTSTAMP:20260421T173512
CREATED:20250207T163309Z
LAST-MODIFIED:20250207T163740Z
UID:10000027-1744817400-1744824600@struwwi-club.de
SUMMARY:🐴 Geführtes Ponyreiten - Ein zauberhaftes Erlebnis für kleine Pferdefans! 🌿✨
DESCRIPTION:Gemeinsam mit euren Kleinen geht es auf eine ganz besondere Entdeckungsreise! 🌞🐎\nWir verbringen einen wunderschönen Vormittag mit sanften\, kinderlieben Ponys – ganz nah\, zum Streicheln\, Pflegen und natürlich zum Reiten! \n🌟 Das erwartet euch:\n✔️ Gemeinsames Striegeln & Hufe auskratzen – wir machen die Ponys zusammen startklar!\n✔️ Ein entspannter Spaziergang durch die Natur – die Kinder reiten\, die Eltern führen die Ponys.\n✔️ Kuscheleinheiten & erste Ponyliebe garantiert! 🥰 \n🥕 Pause für kleine Reiter:\nZwischendurch legen wir eine gemütliche Pause ein – Snacks & Getränke könnt ihr gerne mitbringen. \n📍 Beitrag:\n🐴 Mitglieder: 10€ | Nicht-Mitglieder: 15€\n⏳ Dauer: ca. 90 Minuten inkl. Vorbereitung & Reiten \n🎟 Nur 3 Plätze frei! Jetzt anmelden & Ponyglück erleben! Wir freuen uns auf euch! 💛 \n________ \n📝 Wichtige Info – Plätze sind heiß begehrt!\n👉 Die Teilnehmerzahl ist auf maximal 3 Kinder begrenzt.\n📅 Anmeldung erforderlich! Bitte meldet euch spätestens Freitag vor dem Termin bis 20:00 Uhr über unsere Vereins-App an. \n📲 Für bestehende Mitglieder/Gäste:\nMeldet euch direkt in der Vereinsplaner-App zum Event an. \n📲 Noch nicht dabei? So geht’s:\n1️⃣ Ladet die App „Vereinsplaner“ herunter und registriert euch mit eurem Namen & E-Mail.\n2️⃣ Sucht nach „Eltern-Kind Verein Struwwelpeter“ und tretet als Gast bei.\n3️⃣ In der App habt ihr alle Termine\, könnt euch direkt anmelden\, erhaltet News & Updates – und als Mitglied könnt ihr euch in den Chatgruppen (nach Alter eures Kindes) mit anderen Eltern austauschen. Außerdem habt ihr den direkten Draht zu uns – kein WhatsApp oder andere Messenger nötig! \n🔗 www.vereinsplaner.de \n* Änderungen vorbehalten
URL:https://struwwi-club.de/termin-details/gefuehrtes-ponyreiten-ein-zauberhaftes-erlebnis-fuer-kleine-pferdefans-%f0%9f%8c%bf%e2%9c%a8/
LOCATION:Hundesportverein Kilianstädten\, Am Kühwald 3\, Schöneck\, 61137
CATEGORIES:Special Event
ATTACH;FMTTYPE=image/jpeg:https://struwwi-club.de/wp-content/uploads/2025/02/gefuehrtes-ponyreiten-waldabenteuer-kinder.jpg
END:VEVENT
END:VCALENDAR